BEGIN:VCALENDAR
VERSION:2.0
PRODID:-//Black Life Story - ECPv6.15.20//NONSGML v1.0//EN
CALSCALE:GREGORIAN
METHOD:PUBLISH
X-WR-CALNAME:Black Life Story
X-ORIGINAL-URL:https://blacklifestory.com
X-WR-CALDESC:Events for Black Life Story
REFRESH-INTERVAL;VALUE=DURATION:PT1H
X-Robots-Tag:noindex
X-PUBLISHED-TTL:PT1H
BEGIN:VTIMEZONE
TZID:UTC
BEGIN:STANDARD
TZOFFSETFROM:+0000
TZOFFSETTO:+0000
TZNAME:UTC
DTSTART:20220101T000000
END:STANDARD
END:VTIMEZONE
BEGIN:VEVENT
DTSTART;TZID=UTC:20231006T190000
DTEND;TZID=UTC:20231006T220000
DTSTAMP:20260424T132104
CREATED:20160224T193020Z
LAST-MODIFIED:20230923T211801Z
UID:59-1696618800-1696629600@blacklifestory.com
SUMMARY:PLAYlist Concert Series
DESCRIPTION:PLAYlist is a free concert series presented by Durham Central Park and WNCU 90.7FM. The concerts take place on the first Friday of the month from May to October at Durham Central Park\, 501 Foster Street in Downtown Durham\, North Carolina.\nOur curated lineup covers and eclectic blend of genres and features local\, regional and national artists. The concerts are simulcast on WNCU\, 90.7FM. Each evening starts with DJ Travis Gales spinning his Friday Night Mix live at the park at 7:00pm. The band takes the stage at 8:00pm sharp. In addition to the music\, there will be a mix of local food trucks\, craft beer and other vendors on site. There is open lawn seating\, so please bring your blankets and lawn chairs. Picnics are welcome\, but outside alcohol is not allowed. Leashed pets are welcome. Concerts will take place rain or shine. \nPLAYlist has presented artists such as Rebirth Brass Band\, Too Many Zooz\, Gabriel Garzon-Montano\, Valerie June and Van Hunt to an adoring\, often dancing\, multi-generational audience since 2017.   Durham Magazine readers named Durham Central Park a 2021 Best Venue for Live music (large venue) in their annual Best Of Survey!   For more information visit DurhamPlaylist.org
URL:https://blacklifestory.com/event/durhamplayistconcertseries/
LOCATION:Durham Central Park\, 501 Foster Street\, Durham\, NC\, United States
ATTACH;FMTTYPE=image/jpeg:https://blacklifestory.com/wp-content/uploads/sites/3/2023/06/playlist-default.jpg
END:VEVENT
BEGIN:VEVENT
DTSTART;TZID=UTC:20230707T080000
DTEND;TZID=UTC:20230707T170000
DTSTAMP:20260424T132104
CREATED:20230624T195448Z
LAST-MODIFIED:20230624T203310Z
UID:388-1688716800-1688749200@blacklifestory.com
SUMMARY:Durham Playlist Concert Series
DESCRIPTION:  \n \n  \n  \nPLAYlist is a free concert series presented by Durham Central Park and WNCU 90.7FM. The concerts take place on the first Friday of the month from May to October at Durham Central Park\, 501 Foster Street in Downtown Durham\, North Carolina.\nOur curated lineup covers and eclectic blend of genres and features local\, regional and national artists. The concerts are simulcast on WNCU\, 90.7FM. Each evening starts with DJ Travis Gales spinning his Friday Night Mix live at the park at 7:00pm. The band takes the stage at 8:00pm sharp. In addition to the music\, there will be a mix of local food trucks\, craft beer and other vendors on site. There is open lawn seating\, so please bring your blankets and lawn chairs. Picnics are welcome\, but outside alcohol is not allowed. Leashed pets are welcome. Concerts will take place rain or shine. \nPLAYlist has presented artists such as Rebirth Brass Band\, Too Many Zooz\, Gabriel Garzon-Montano\, Valerie June and Van Hunt to an adoring\, often dancing\, multi-generational audience since 2017.   Durham Magazine readers named Durham Central Park a 2021 Best Venue for Live music (large venue) in their annual Best Of Survey!   For more information visit DurhamPlaylist.org \n  \nThe concert series will take place the first Friday of the month\, from May to October\, 2023.\n  \n  \nPLAYlist Concert Series at Durham Central Park — Raíces\, Rutas\, y Ritmos June 2 \n \n  \n 
URL:https://blacklifestory.com/event/durham-playlist-concert-series/
ATTACH;FMTTYPE=image/jpeg:https://blacklifestory.com/wp-content/uploads/sites/3/2023/06/playlist-default.jpg
END:VEVENT
END:VCALENDAR